Workbook

Sheet FR 1 Ders Planları
A1: BURSA ULUDAĞ ÜNİVERSİTESİ DERS PLAN FORMU-1 ANADAL DERS PLANLARI
A2: 2026 - 2027 EĞİTİM-ÖĞRETİM YILI
A3: FAKÜLTE/YÜKSEKOKUL/KONSERVATUVAR/MYO: GEMLİK ASIM KOCABIYIK-KARACABEY-KELES-ORHANGAZİ YENİKÖY ASİL ÇELİK-TEKNİK BİLİMLER
A4: BÖLÜM/ PROGRAM: BİLGİSAYAR TEKNOLOJİLERİ/BİLGİSAYAR PROGRAMCILIĞI
A6: I.YARIYIL/GÜZ YARIYILI | G6: * Dersin Durumu | H6: II.YARIYIL/BAHAR YARIYILI | N6: * Dersin Durumu
C7: HAFTALIK DERS SAATİ | J7: HAFTALIK DERS SAATİ
A8: KOD | B8: DERSİN ADI | C8: K | D8: U | E8: L | F8: AKTS | H8: KOD | I8: DERSİN ADI | J8: K | K8: U | L8: L | M8: AKTS
A9: BLPZ121 | B9: MESLEKİ MATEMATİK | C9: 3 | D9: 0 | E9: 0 | F9: 4 | H9: OSPZ034 | I9: İŞ SAĞLIĞI VE GÜVENLİĞİ | J9: 2 | K9: 0 | L9: 0 | M9: 3
A10: BLPZ111 | B10: PROGRAMLAMA TEMELLERİ | C10: 3 | D10: 0 | E10: 1 | F10: 6 | H10: BLPZ132 | I10: NESNE TABANLI PROGRAMLAMA I | J10: 3 | K10: 0 | L10: 1 | M10: 4
A11: BLPZ113 | B11: GRAFİK ve ANİMASYON | C11: 3 | D11: 0 | E11: 1 | F11: 4 | H11: BLPZ134 | I11: İNTERNET PROGRAMCILIĞI I | J11: 2 | K11: 0 | L11: 2 | M11: 3
A12: BLPZ115 | B12: YAZILIM MİMARİLERİ | C12: 3 | D12: 0 | E12: 0 | F12: 4 | H12: BLPZ126 | I12: VERİ TABANI II | J12: 3 | K12: 0 | L12: 1 | M12: 5
A13: BLPZ117 | B13: VERİ TABANI I | C13: 3 | D13: 0 | E13: 1 | F13: 5 | H13: OTPZ004 | I13: KALİTE YÖNETİM SİSTEMLERİ | J13: 2 | K13: 0 | L13: 0 | M13: 3
A14: BLPZ123 | B14: WEB TASARIMININ TEMELLERİ | C14: 2 | D14: 0 | E14: 2 | F14: 3 | H14: BLPZ136 | I14: AĞ TEMELLERİ | J14: 3 | K14: 0 | L14: 1 | M14: 4
A15: YAD105 | B15: YABANCI DİL | C15: 4 | D15: 0 | E15: 0 | F15: 4 | H15: BLPZ138 | I15: MESLEKİ YABANCI DİL | J15: 2 | K15: 0 | L15: 0 | M15: 2
A16: BLPZ119 | B16: KARİYER PLANLAMA* | C16: 1 | D16: 0 | E16: 0 | F16: 1
H17: SEÇMELİ DERSLER | M17: 6
H18: ALAN İÇİ SEÇMELİ
H19: ALAN DIŞI SEÇMELİ
B20: YARIYIL KREDİSİ | F20: =SUM(F9:F15) -> 30 | I20: YARIYIL KREDİSİ | M20: =SUM(M9:M19) -> 30
A22: III.YARIYIL/GÜZ YARIYILI | G22: * Dersin Durumu | H22: IV.YARIYIL/BAHAR YARIYILI | N22: * Dersin Durumu
C23: HAFTALIK DERS SAATİ | J23: HAFTALIK DERS SAATİ
A24: KOD | B24: DERSİN ADI | C24: K | D24: U | E24: L | F24: AKTS | H24: KOD | I24: DERSİN ADI | J24: K | K24: U | L24: L | M24: AKTS
A25: BLPZ245 | B25: ERP SİSTEM YAZILIMLARI | C25: 3 | D25: 0 | E25: 1 | F25: 5 | H25: ATA202 | I25: ATATÜRK İLKELERİ VE İNKILAP TARİHİ | J25: 4 | K25: 0 | L25: 0 | M25: 4
A26: BLPZ237 | B26: NESNE TABANLI PROGRAMLAMA II | C26: 3 | D26: 0 | E26: 1 | F26: 4 | H26: TUD202 | I26: TÜRK DİLİ | J26: 4 | K26: 0 | L26: 0 | M26: 4
A27: BLPZ249 | B27: İNTERNET PROGRAMCILIĞI II | C27: 2 | D27: 0 | E27: 2 | F27: 3 | H27: İME202 | I27: İŞLETMEDE MESLEKİ EĞİTİM | J27: 5 | K27: 25 | L27: 0 | M27: 16 | N27: İME
A28: BLPZ251 | B28: MESLEK ETİĞİ | C28: 2 | D28: 0 | E28: 0 | F28: 3 | H28: STJ202 | I28: STAJ | J28: 0 | K28: 2 | L28: 0 | M28: 6 | N28: STJ
A29: BLPZ253 | B29: SİSTEM ANALİZİ ve TASARIMI | C29: 3 | D29: 0 | E29: 1 | F29: 4
A30: BLPZ255 | B30: ÇEVRE KORUMA | C30: 2 | D30: 0 | E30: 0 | F30: 2
A31: SEÇMELİ DERSLER | F31: 9
A32: ALAN İÇİ SEÇMELİ
A33: ALAN DIŞI SEÇMELİ
B34: YARIYIL KREDİSİ | F34: 30 | I34: YARIYIL KREDİSİ | M34: 30
B36: *Dersin AKTS kredisi, yarıyıl ile mezuniyet toplam AKTS kredi toplamına dahil değildir.
C37: AKTS
B38: Toplam Seçmeli Ders Kredisi : | C38: 15 | J38: Tarih | L38: :
B39: Toplam Mezuniyet Kredisi : | C39: 120
B40: Toplam Seçmeli Ders Kredi Oranı | C40: =C38/C39 -> 0.125
A45: * | B45: Dersin Durumu kısmına Yükseköğretimde Uygulamalı Eğitimler Çerçeve Yönetmeliği gereğince aşağıda yer verilen her ders için uygun olan tanımlar kısaltılmış olarak belirtilecektir. Teorik dersler için boş bırakınız.
A46: UD | B46: Uygulamalı ders: Bir eğitim ve öğretim döneminde diploma programına ait dersler kapsamında öğrencilerin yükseköğretim kurumunun uygulama alanlarında, işletmelerde veya hizmet alanlarında uygulamaların içinde yer alarak bilgi, beceri ve yetkinliklerinin gelişimini sağlayan, ilgili dersin öğretim elemanının veya elemanlarının sorumluluğunda yapılan, işletmede mesleki eğitim veya staj kapsamında olmayan dersi,
A47: İME | B47: İşletmede mesleki eğitim: Mesleki eğitim programı öğrencilerinin teorik eğitimlerini yükseköğretim kurumlarında, işletmede veya işletmelerce tesis edilen eğitim birimlerinde, beceri eğitimlerini ise işletmelerde yaptıkları eğitim uygulamalarını,
A48: STJ | B48: Staj: Yükseköğretim kurumlarında verilen ve programa özgü olarak belirlenmiş teorik ve uygulamalı dersler dışında, öğrencilerin öğretim programlarıyla kazandırılması öngörülen mesleki bilgi, beceri, tutum ve davranışlarını geliştirmeleri, sektörü tanımaları, iş hayatına uyum sağlamaları, tecrübe edinmeleri ve gerçek üretim ve hizmet ortamında yetişmeleri amacıyla işletmelerde yaptıkları mesleki çalışmayı,

Sheet FR 1 ING
A1: BURSA ULUDAĞ UNIVERSITY CURRICULUM FORM-1 MAJOR COURSE PLANS
A2: 2026 - 2027 ACADEMIC YEAR
A3: FACULTY/HIGER EDUCATION/CONSERVATORY/VOCATIONAL SCHOOL: GEMLİK ASIM KOCABIYIK-KARACABEY-KELES-ORHANGAZİ YENİKÖY ASİL ÇELİK-TEKNİK BİLİMLER
A4: DEPARTEMENT/ PROGRAM : COMPUTER TECHNOLOGIES / COMPUTER PROGRAMMING
A6: I.TERM/FALL SEMESTER | G6: *Type Of Course | H6: II.TERM/SPRING SEMESTER | N6: *Type Of Course
C7: COURSE HOUR PER WEEK | J7: COURSE HOUR PER WEEK
A8: CODE | B8: COURSE | C8: T | D8: A | E8: L | F8: ECTS | H8: CODE | I8: COURSE | J8: T | K8: A | L8: L | M8: ECTS
A9: BLPZ121 | B9: PROFESSIONAL MATHEMATICS | C9: 3 | D9: 0 | E9: 0 | F9: 4 | H9: OSPZ034 | I9: OCCUPATIONAL HEALTH AND SAFETY | J9: 2 | K9: 0 | L9: 0 | M9: 3
A10: BLPZ111 | B10: PROGRAMMING BASICS | C10: 3 | D10: 0 | E10: 1 | F10: 6 | H10: BLPZ132 | I10: OBJECT ORIENTED PROGRAMMING I | J10: 3 | K10: 0 | L10: 1 | M10: 4
A11: BLPZ113 | B11: GRAPHICS and ANIMATION | C11: 3 | D11: 0 | E11: 1 | F11: 4 | H11: BLPZ134 | I11: INTERNET PROGRAMMING I | J11: 2 | K11: 0 | L11: 2 | M11: 3
A12: BLPZ115 | B12: SOFTWARE ARCHITECTURE | C12: 3 | D12: 0 | E12: 0 | F12: 4 | H12: BLPZ126 | I12: DATA BASE II | J12: 3 | K12: 0 | L12: 1 | M12: 5
A13: BLPZ117 | B13: DATA BASE I | C13: 3 | D13: 0 | E13: 1 | F13: 5 | H13: OTPZ004 | I13: QUALITY MANAGEMENT SYSTEMS | J13: 2 | K13: 0 | L13: 0 | M13: 3
A14: BLPZ123 | B14: BASICS OF WEB DESIGN | C14: 2 | D14: 0 | E14: 2 | F14: 3 | H14: BLPZ136 | I14: NETWORKING BASICS | J14: 3 | K14: 0 | L14: 1 | M14: 4
A15: YAD105 | B15: FOREIGN LANGUAGE | C15: 4 | D15: 0 | E15: 0 | F15: 4 | H15: BLPZ138 | I15: PROFESSIONAL FOREIGN LANGUAGE | J15: 2 | K15: 0 | L15: 0 | M15: 2
A16: BLPZ119 | B16: CAREER PLANNING | C16: 1 | D16: 0 | E16: 0 | F16: 1
A17: ELECTIVE COURSES | H17: ELECTIVE COURSES | M17: 6
A18: FIELD COURSE | H18: FIELD COURSE
A19: NON-FIELD COURSE | H19: NON-FIELD COURSE
B20: TERM CREDITS | F20: =SUM(F9:F15) -> 30 | I20: TERM CREDITS | M20: =SUM(M9:M18) -> 30
A22: III.TERM/FALL SEMESTER | G22: *Type Of Course | H22: IV.TERM/SPRING SEMESTER | N22: *Type Of Course
C23: COURSE HOUR PER WEEK | J23: COURSE HOUR PER WEEK
A24: CODE | B24: COURSE | C24: T | D24: A | E24: L | F24: ECTS | H24: CODE | I24: COURSE | J24: T | K24: A | L24: L | M24: ECTS
A25: BLPZ245 | B25: ERP SYSTEM SOFTWARES | C25: 3 | D25: 0 | E25: 1 | F25: 5 | H25: ATA202 | I25: ATATURK'S PRINCIPALS and HISTORY of REVOLUTIONS | J25: 4 | K25: 0 | L25: 0 | M25: 4
A26: BLPZ237 | B26: OBJECT ORIENTED PROGRAMMING II | C26: 3 | D26: 0 | E26: 1 | F26: 4 | H26: TUD202 | I26: TURKISH LANGUAGE | J26: 4 | K26: 0 | L26: 0 | M26: 4
A27: BLPZ249 | B27: INTERNET PROGRAMMING II | C27: 2 | D27: 0 | E27: 2 | F27: 3 | H27: İME202 | I27: WORKPLACE VOCATIONAL TRAINING | J27: 5 | K27: 25 | L27: 0 | M27: 16 | N27: İME
A28: BLPZ251 | B28: PROFESSIONAL ETHICS | C28: 2 | D28: 0 | E28: 0 | F28: 3 | H28: STJ202 | I28: INTERNSHIP | J28: 0 | K28: 2 | L28: 0 | M28: 6 | N28: STJ
A29: BLPZ253 | B29: SYSTEM ANALYSIS and DESIGN | C29: 3 | D29: 0 | E29: 1 | F29: 4
A30: BLPZ255 | B30: ENVIRONMENTAL PROTECTION | C30: 2 | D30: 0 | E30: 0 | F30: 2
A31: ELECTIVE COURSES | F31: 9 | H31: ELECTIVE COURSES
A32: FIELD COURSE | H32: FIELD COURSE
A33: NON-FIELD COURSE | H33: NON-FIELD COURSE
B34: TERM CREDITS | F34: =SUM(F25:F33) -> 30 | I34: TERM CREDITS | M34: =SUM(M25:M33) -> 30
B36: *The course's ECTS credits are not included in the total ECTS credits for the semester and graduation.

Sheet FR 2 Seçmeli Dersler
A1: BURSA ULUDAĞ ÜNİVERSİTESİ DERS PLAN FORMU-2 SEÇMELİ DERSLER LİSTESİ
A2: ='FR 1 Ders Planları'!A2:M2 -> 2026 - 2027 EĞİTİM-ÖĞRETİM YILI
A3: FACULTY/HIGER EDUCATION/CONSERVATORY/VOCATIONAL SCHOOL: GEMLİK ASIM KOCABIYIK-KARACABEY-KELES-ORHANGAZİ YENİKÖY ASİL ÇELİK-TEKNİK BİLİMLER
A4: DEPARTEMENT/ PROGRAM : COMPUTER TECHNOLOGIES / COMPUTER PROGRAMMING
A6: I.YARIYIL/GÜZ | G6: * Dersin Durumu | H6: II.YARIYIL/BAHAR | N6: * Dersin Durumu
A7: ALAN İÇİ SEÇMELİ DERSLER | C7: HAFTALIK DERS SAATİ | H7: ALAN İÇİ SEÇMELİ DERSLER | J7: HAFTALIK DERS SAATİ
A8: KOD | B8: DERSİN ADI | C8: T | D8: U | E8: L | F8: AKTS | H8: KOD | I8: DERSİN ADI | J8: T | K8: U | L8: L | M8: AKTS
H9: BLPS120 | I9: OFİS YAZILIMLARI | J9: 2 | K9: 0 | L9: 0 | M9: 3
H10: BLPS122 | I10: İÇERİK YÖNETİM SİSTEMİ | J10: 2 | K10: 0 | L10: 0 | M10: 3
H11: BLPS124 | I11: BİLGİSAYAR DONANIMI | J11: 2 | K11: 0 | L11: 0 | M11: 3
H12: BLPS126 | I12: MEDYA OKURYAZARLIĞI | J12: 2 | K12: 0 | L12: 0 | M12: 3
H13: BLPS128 | I13: ÇOKLU PROGRAMLAMA DİLLERİ | J13: 2 | K13: 0 | L13: 0 | M13: 3
H14: BLPS130 | I14: VERİ YAPILARI VE ALGORİTMALAR | J14: 2 | K14: 0 | L14: 0 | M14: 3
H15: BLPS132 | I15: GÖRSEL PROGRAMLAMA I | J15: 2 | K15: 0 | L15: 0 | M15: 3
H16: BLPS134 | I16: AÇIK KAYNAK İŞLETİM SİSTEMİ | J16: 2 | K16: 0 | L16: 0 | M16: 3
H17: BLPS136 | I17: YAZILIM KURULUMU ve YÖNETİMİ | J17: 2 | K17: 0 | L17: 0 | M17: 3
H18: BLPS138 | I18: MOBİL PROGRAMLAMA I | J18: 2 | K18: 0 | L18: 0 | M18: 3
H19: BLPS140 | I19: OYUN PROGRAMLAMA I | J19: 2 | K19: 0 | L19: 0 | M19: 3
H20: BLPS142 | I20: VERİ MADENCİLİĞİ | J20: 2 | K20: 0 | L20: 0 | M20: 3
... H24: BLPS150 | I24: MESLEKİ MATEMATİK II | J24: 2 | K24: 0 | L24: 0 | M24: 3
A25: ALAN DIŞI SEÇMELİ DERSLER | H25: ALAN DIŞI SEÇMELİ DERSLER
H26: OTPS060 | I26: İŞLETME YÖNETİMİ I | J26: 2 | K26: 0 | L26: 0 | M26: 3
H27: OTPS062 | I27: GİRİŞİMCİLİK | J27: 2 | K27: 0 | L27: 0 | M27: 3
H28: OTPS064 | I28: KALİTE GÜVENCESİ ve STANDARTLARI | J28: 2 | K28: 0 | L28: 0 | M28: 3
H29: OTPS066 | I29: SOSYAL SORUMLULUK PROJESİ I | J29: 1 | K29: 2 | L29: 0 | M29: 3
H30: OTPS068 | I30: İLETİŞİM | J30: 2 | K30: 0 | L30: 0 | M30: 3
H31: PRJS102 | I31: PROJE KÜLTÜRÜ * | J31: 1 | K31: 0 | L31: 0 | M31: 1
A33: III.YARIYIL/GÜZ | G33: * Dersin Durumu | H33: IV.YARIYIL/BAHAR | N33: * Dersin Durumu
A34: ALAN İÇİ SEÇMELİ DERSLER | C34: HAFTALIK DERS SAATİ | H34: ALAN İÇİ SEÇMELİ DERSLER | J34: HAFTALIK DERS SAATİ
A35: KOD | B35: DERSİN ADI | C35: T | D35: U | E35: L | F35: AKTS | H35: KOD | I35: DERSİN ADI | J35: T | K35: U | L35: L | M35: AKTS
A36: BLPS251 | B36: SİBER GÜVENLİĞE GİRİŞ | C36: 2 | D36: 0 | E36: 0 | F36: 3
A37: BLPS253 | B37: BİLİŞİM SUÇLARI ve HUKUKU | C37: 2 | D37: 0 | E37: 0 | F37: 3
A38: BLPS255 | B38: GÖRSEL PROGRAMLAMA II | C38: 2 | D38: 0 | E38: 0 | F38: 3
A39: BLPS257 | B39: SUNUCU İŞLETİM SİSTEMİ | C39: 2 | D39: 0 | E39: 0 | F39: 3
A40: BLPS259 | B40: MOBİL PROGRAMLAMA II | C40: 2 | D40: 0 | E40: 0 | F40: 3
A41: BLPS261 | B41: NESNELERİN İNTERNETİ | C41: 2 | D41: 0 | E41: 0 | F41: 3
A42: BLPS263 | B42: OYUN PROGRAMLAMA II | C42: 2 | D42: 0 | E42: 0 | F42: 3
A43: BLPS265 | B43: BULUT BİLİŞİM | C43: 2 | D43: 0 | E43: 0 | F43: 3
A44: BLPS267 | B44: MAKİNE ÖĞRENMESİ | C44: 2 | D44: 0 | E44: 0 | F44: 3
A45: BLPS269 | B45: SANAL VE ARTTIRILMIŞ GERÇEKLİK | C45: 2 | D45: 0 | E45: 0 | F45: 3
A46: BLPS271 | B46: KRİPTOLOJİ | C46: 2 | D46: 0 | E46: 0 | F46: 3
A47: BLPS273 | B47: COĞRAFİ BİLGİ SİSTEMLERİ | C47: 2 | D47: 0 | E47: 0 | F47: 3
A48: ALAN DIŞI SEÇMELİ DERSLER | H48: ALAN DIŞI SEÇMELİ DERSLER
A49: OTPS063 | B49: ARAŞTIRMA YÖNTEM ve TEKNİKLERİ | C49: 2 | D49: 0 | E49: 0 | F49: 3
A50: OTPS061 | B50: İŞLETME YÖNETİMİ II | C50: 2 | D50: 0 | E50: 0 | F50: 3
A51: OTPS065 | B51: TOPLUM BİLİNCİ VE SOSYAL SORUMLULUK | C51: 1 | D51: 2 | E51: 0 | F51: 3
A52: OTPS067 | B52: SOSYAL SORUMLULUK PROJESİ II | C52: 1 | D52: 2 | E52: 0 | F52: 3
A54: ALAN DIŞI SEÇMELİ DERSLER BELİRTİLİRKEN SADECE ÖĞRENCİNİN SORUMLU OLACAĞI DERS KREDİSİ BELİRTİLECEK.
J56: Tarih | L56: :
A60: * | B60: Dersin Durumu kısmına Yükseköğretimde Uygulamalı Eğitimler Çerçeve Yönetmeliği gereğince aşağıda yer verilen her ders için uygun olan tanımlar kısaltılmış olarak belirtilecektir. Teorik dersler için boş bırakınız.
A61: UD | B61: Uygulamalı ders: Bir eğitim ve öğretim döneminde diploma programına ait dersler kapsamında öğrencilerin yükseköğretim kurumunun uygulama alanlarında, işletmelerde veya hizmet alanlarında uygulamaların içinde yer alarak bilgi, beceri ve yetkinliklerinin gelişimini sağlayan, ilgili dersin öğretim elemanının veya elemanlarının sorumluluğunda yapılan, işletmede mesleki eğitim veya staj kapsamında olmayan dersi,
A62: İME | B62: İşletmede mesleki eğitim: Mesleki eğitim programı öğrencilerinin teorik eğitimlerini yükseköğretim kurumlarında, işletmede veya işletmelerce tesis edilen eğitim birimlerinde, beceri eğitimlerini ise işletmelerde yaptıkları eğitim uygulamalarını,
A63: STJ | B63: Staj: Yükseköğretim kurumlarında verilen ve programa özgü olarak belirlenmiş teorik ve uygulamalı dersler dışında, öğrencilerin öğretim programlarıyla kazandırılması öngörülen mesleki bilgi, beceri, tutum ve davranışlarını geliştirmeleri, sektörü tanımaları, iş hayatına uyum sağlamaları, tecrübe edinmeleri ve gerçek üretim ve hizmet ortamında yetişmeleri amacıyla işletmelerde yaptıkları mesleki çalışmayı,

Sheet FR 2 ING
A1: BURSA ULUDAĞ UNIVERSITY CURRICULUM FORM-2 ELECTIVE COURSES LIST
A2: ='FR 1 Ders Planları'!A2:M2 -> 2026 - 2027 EĞİTİM-ÖĞRETİM YILI
A3: FACULTY/HIGER EDUCATION/CONSERVATORY/VOCATIONAL SCHOOL: GEMLİK ASIM KOCABIYIK-KARACABEY-KELES-ORHANGAZİ YENİKÖY ASİL ÇELİK-TEKNİK BİLİMLER
A4: DEPARTEMENT/ PROGRAM : COMPUTER TECHNOLOGIES / COMPUTER PROGRAMMING
A6: I.TERM/FALL SEMESTER | G6: Type Of Course | H6: II.TERM/SPRING SEMESTER | N6: Type Of Course
A7: COURSES İN THE FIELD | H7: COURSES İN THE FIELD
A8: CODE | B8: COURSE | C8: T | D8: A | E8: L | F8: ECTS | H8: CODE | I8: COURSE | J8: T | K8: A | L8: L | M8: ECTS
H9: BLPS120 | I9: OFFICE SOFTWARES | J9: 2 | K9: 0 | L9: 0 | M9: 3
H10: BLPS122 | I10: CONTENT MANAGEMENT SYSTEM | J10: 2 | K10: 0 | L10: 0 | M10: 3
H11: BLPS124 | I11: COMPUTER HARDWARE | J11: 2 | K11: 0 | L11: 0 | M11: 3
H12: BLPS126 | I12: MEDIA LITERACY | J12: 2 | K12: 0 | L12: 0 | M12: 3
H13: BLPS128 | I13: MULTIPLE PROGRAMMING LANGUAGES | J13: 2 | K13: 0 | L13: 0 | M13: 3
H14: BLPS130 | I14: DATA STRUCTURES AND ALGORITHMS | J14: 2 | K14: 0 | L14: 0 | M14: 3
H15: BLPS132 | I15: VISUAL PROGRAMMING I | J15: 2 | K15: 0 | L15: 0 | M15: 3
H16: BLPS134 | I16: OPEN SOURCE OPERATING SYSTEM | J16: 2 | K16: 0 | L16: 0 | M16: 3
H17: BLPS136 | I17: SOFTWARE INSTALLATION AND MANAGEMENT | J17: 2 | K17: 0 | L17: 0 | M17: 3
H18: BLPS138 | I18: MOBILE PROGRAMMING I | J18: 2 | K18: 0 | L18: 0 | M18: 3
H19: BLPS140 | I19: GAME PROGRAMMING I | J19: 2 | K19: 0 | L19: 0 | M19: 3
H20: BLPS142 | I20: DATA MINING | J20: 2 | K20: 0 | L20: 0 | M20: 3
... H24: BLPS150 | I24: PROFESSIONAL MATHEMATICS II | J24: 2 | K24: 0 | L24: 0 | M24: 3
A25: COURSES OUT OF FIELD | H25: COURSES OUT OF FIELD
H26: OTPS060 | I26: BUSINES MANAGEMENT I | J26: 2 | K26: 0 | L26: 0 | M26: 3
H27: OTPS062 | I27: ENTREPRENEURSHIP | J27: 2 | K27: 0 | L27: 0 | M27: 3
H28: OTPS064 | I28: QUALITY ASSUARANCE AND STANDARDS | J28: 2 | K28: 0 | L28: 0 | M28: 3
H29: OTPS066 | I29: SOCIAL RESPONSIBILITY PROJECT I | J29: 1 | K29: 2 | L29: 0 | M29: 3
H30: OTPS068 | I30: COMMUNICATION | J30: 2 | K30: 0 | L30: 0 | M30: 3
H31: PRJS102 | I31: PROJECT CULTURE | J31: 1 | K31: 0 | L31: 0 | M31: 1
A33: III.TERM/FALL SEMESTER | G33: Type Of Course | H33: IV.TERM/SPRING SEMESTER | N33: Type Of Course
A34: COURSES İN THE FIELD | H34: COURSES İN THE FIELD
A35: CODE | B35: COURSE | C35: T | D35: A | E35: L | F35: ECTS | H35: CODE | I35: COURSE | J35: T | K35: A | L35: L | M35: ECTS
A36: BLPS251 | B36: INTRODUCTION TO CYBER SECURITY | C36: 2 | D36: 0 | E36: 0 | F36: 3
A37: BLPS253 | B37: CYBER CRIMES AND LAW | C37: 2 | D37: 0 | E37: 0 | F37: 3
A38: BLPS255 | B38: VISUAL PROGRAMMING II | C38: 2 | D38: 0 | E38: 0 | F38: 3
A39: BLPS257 | B39: SERVER OPERATING SYSTEM | C39: 2 | D39: 0 | E39: 0 | F39: 3
A40: BLPS259 | B40: MOBILE PROGRAMMING II | C40: 2 | D40: 0 | E40: 0 | F40: 3
A41: BLPS261 | B41: INTERNET OF THINGS | C41: 2 | D41: 0 | E41: 0 | F41: 3
A42: BLPS263 | B42: GAME PROGRAMMING II | C42: 2 | D42: 0 | E42: 0 | F42: 3
A43: BLPS265 | B43: CLOUD COMPUTING | C43: 2 | D43: 0 | E43: 0 | F43: 3
A44: BLPS267 | B44: MACHINE LEARNING | C44: 2 | D44: 0 | E44: 0 | F44: 3
A45: BLPS269 | B45: VIRTUAL AND AUGMENTED REALITY | C45: 2 | D45: 0 | E45: 0 | F45: 3
A46: BLPS271 | B46: CRYPTOLOGY | C46: 2 | D46: 0 | E46: 0 | F46: 3
A47: BLPS273 | B47: GEOGRAPHICAL INFORMATION SYSTEMS | C47: 2 | D47: 0 | E47: 0 | F47: 3
A48: COURSES OUT OF FIELD | H48: COURSES OUT OF FIELD
A49: OTPS063 | B49: RESEACH METHODS AND TECNIQUES | C49: 2 | D49: 0 | E49: 0 | F49: 3
A50: OTPS061 | B50: BUSINES MANAGEMENT II | C50: 2 | D50: 0 | E50: 0 | F50: 3
A51: OTPS065 | B51: SOCIAL CONSCIOUSNESS AND SOCIAL RESPONSIBILITY | C51: 1 | D51: 2 | E51: 0 | F51: 3
A52: OTPS067 | B52: SOCIAL RESPONSIBILITY PROJECT II | C52: 1 | D52: 2 | E52: 0 | F52: 3
J54: Tarih | L54: :

Sheet FR 3 Kaldırılan Dersler
A1: BURSA ULUDAĞ ÜNİVERSİTESİ ANADAL DERS PLAN FORMU-3 KALDIRILAN/DEĞİŞTİRİLEN/YENİ EKLENEN DERSLER
A2: ='FR 1 Ders Planları'!A2 -> 2026 - 2027 EĞİTİM-ÖĞRETİM YILI
A3: ='FR 1 Ders Planları'!A3:M3 -> FAKÜLTE/YÜKSEKOKUL/KONSERVATUVAR/MYO: GEMLİK ASIM KOCABIYIK-KARACABEY-KELES-ORHANGAZİ YENİKÖY ASİL ÇELİK-TEKNİK BİLİMLER
A4: ='FR 1 Ders Planları'!A4:M4 -> BÖLÜM/ PROGRAM: BİLGİSAYAR TEKNOLOJİLERİ/BİLGİSAYAR PROGRAMCILIĞI
A5: =CONCATENATE(LEFT('FR 1 Ders Planları'!A2,11)," Eğitim-Öğretim Yılı (Kaldırılan/Değiştirilen Ders)") -> 2026 - 2027 Eğitim-Öğretim Yılı (Kaldırılan/Değiştirilen Ders) | H5: =CONCATENATE(LEFT('FR 1 Ders Planları'!A2,11)," Eğitim-Öğretim Yılı Eşdeğeri (Kaldırılan/Değiştirilen Dersin Yerine Okutulacak Ders)") -> 2026 - 2027 Eğitim-Öğretim Yılı Eşdeğeri (Kaldırılan/Değiştirilen Dersin Yerine Okutulacak Ders) | O5: Uygulama (*) | P5: Gerekçe (**)
A7: Kodu | B7: Dersin Adı | C7: Dersin Türü | D7: Haftalık Ders Saati | H7: Kodu | I7: Dersin Adı | J7: Dersin Türü | K7: Haftalık Ders Saati
C8: Z/S | D8: K | E8: U | F8: L | G8: AKTS | J8: Z/S | K8: K | L8: U | M8: L | N8: AKTS
A45: NOT: (*) Her değişiklikte giriş yılı farklı olan öğrenciler için uygulama esasları açıkça belirtilecektir
A46: (**) Form 3'ün gerekçelerinin tablo ekinde metin olarak belirtilmesi.
A47: YENİ EKLENEN/DEĞİŞTİRİLEN DERSLER İÇİN
A48: BİLGİ PAKETİNDE YER ALACAK OLAN "DERS ÖĞRETİM PLANI"
A49: EKLENECEKTİR.
O50: Tarih | P50: :

Sheet FR 7 Yeni Eklenen Dersler
A1: BURSA ULUDAĞ ÜNİVERSİTESİ ANADAL DERS PLAN FORMU-7 YENİ EKLENEN DERSLER
A2: ='FR 1 Ders Planları'!A2:M2 -> 2026 - 2027 EĞİTİM-ÖĞRETİM YILI
A3: ='FR 1 Ders Planları'!A3 -> FAKÜLTE/YÜKSEKOKUL/KONSERVATUVAR/MYO: GEMLİK ASIM KOCABIYIK-KARACABEY-KELES-ORHANGAZİ YENİKÖY ASİL ÇELİK-TEKNİK BİLİMLER
A4: ='FR 1 Ders Planları'!A4 -> BÖLÜM/ PROGRAM: BİLGİSAYAR TEKNOLOJİLERİ/BİLGİSAYAR PROGRAMCILIĞI
A6: =CONCATENATE(LEFT('FR 1 Ders Planları'!A2,11)," Eğitim-Öğretim Yılında Müfredata Eklenen Yeni Ders(ler)") -> 2026 - 2027 Eğitim-Öğretim Yılında Müfredata Eklenen Yeni Ders(ler) | I6: Uygulama(*) | J6: Gerekçe (**)
A7: Kod | B7: Dersin Adı | C7: Dersin Yarıyılı (Dersin Eklendiği Yarıyılın Numarası Yazılacaktır) | D7: Dersin Türü | E7: Haftalık Ders Saati | H7: AKTS
D8: Z/S | E8: K | F8: U | G8: L
A9: BLPS148 | B9: GRAFİK TASARIM UYGULAMALARI | C9: II | D9: S | E9: 2 | F9: 0 | G9: 0 | H9: 3 | I9: Yeni eklenen ders | J9: Program kurul önerisi
A10: BLPS150 | B10: MESLEKİ MATEMATİK II | C10: II | D10: S | E10: 2 | F10: 0 | G10: 0 | H10: 3 | I10: Yeni eklenen ders | J10: Program kurul önerisi
A26: NOT: (*) Her değişiklikte giriş yılı farklı olan öğrenciler için uygulama esasları açıkça belirtilecektir
A27: (**) Form 3'ün gerekçelerinin tablo ekinde metin olarak belirtilmesi.
A28: YENİ EKLENEN DERSLER İÇİN
A29: BİLGİ PAKETİNDE YER ALACAK OLAN "DERS ÖĞRETİM PLANI"
A30: EKLENECEKTİR.

Sheet FR 4 Önkoşullu Ders
A1: BURSA ULUDAĞ ÜNİVERSİTESİ ANADAL DERS PLAN FORMU-4 ÖN KOŞULLU DERSLER
A2: ='FR 1 Ders Planları'!A2:M2 -> 2026 - 2027 EĞİTİM-ÖĞRETİM YILI
A3: ='FR 1 Ders Planları'!A3 -> FAKÜLTE/YÜKSEKOKUL/KONSERVATUVAR/MYO: GEMLİK ASIM KOCABIYIK-KARACABEY-KELES-ORHANGAZİ YENİKÖY ASİL ÇELİK-TEKNİK BİLİMLER
A4: ='FR 1 Ders Planları'!A4 -> BÖLÜM/ PROGRAM: BİLGİSAYAR TEKNOLOJİLERİ/BİLGİSAYAR PROGRAMCILIĞI
A5: ÖN KOŞUL/ÖN KOŞULLU DERSLER LİSTESİ | O5: Uygulama Esasları (*) | P5: Gerekçe (**)
A7: Kodu | B7: Ön Koşul Dersin Adı (Ön Koşullu Dersten Önce Başarı Şartı Sağlanması Gereken Ders) | C7: Dersin Türü | D7: Haftalık Ders Saati | H7: Kodu | I7: Ön Koşullu Dersin Adı (Ön Koşul Şartı Sağlandıktan Sonra Alınacak Ders) | J7: Dersin Türü | K7: Haftalık Ders Saati
C8: Z/S | D8: K | E8: U | F8: L | G8: AKTS | J8: Z/S | K8: K | L8: U | M8: L | N8: AKTS
A31: NOT: 1-(*) Her değişiklikte giriş yılı farklı olan öğrenciler için uygulama esaslarının açıkça belirtilmesi.
A32: 2-(**) Form 4'ün gerekçelerinin tablo ekinde metin olarak belirtilmesi.
O35: Tarih | P35: :

Sheet FR 5 Alan Dışı Seçmeli Dersler
A1: BURSA ULUDAĞ ÜNİVERSİTESİ ANADAL DERS PLAN FORMU-5 ALAN DIŞI SEÇMELİ DERSLER
A2: ='FR 1 Ders Planları'!A2:M2 -> 2026 - 2027 EĞİTİM-ÖĞRETİM YILI
A3: ='FR 1 Ders Planları'!A3 -> FAKÜLTE/YÜKSEKOKUL/KONSERVATUVAR/MYO: GEMLİK ASIM KOCABIYIK-KARACABEY-KELES-ORHANGAZİ YENİKÖY ASİL ÇELİK-TEKNİK BİLİMLER
A4: ='FR 1 Ders Planları'!A4 -> BÖLÜM/ PROGRAM: BİLGİSAYAR TEKNOLOJİLERİ/BİLGİSAYAR PROGRAMCILIĞI
A5: Kod | B5: Dersin Adı | C5: Haftalık Ders Saati | F5: AKTS | G5: Dersin Verileceği Birim | H5: Dersin Verileceği Program
C6: K | D6: U | E6: L
A7: OTPS060 | B7: İŞLETME YÖNETİMİ I | C7: 2 | D7: 0 | E7: 0 | F7: 3
A8: OTPS062 | B8: GİRİŞİMCİLİK | C8: 2 | D8: 0 | E8: 0 | F8: 3
A9: OTPS064 | B9: KALİTE GÜVENCESİ ve STANDARTLARI | C9: 2 | D9: 0 | E9: 0 | F9: 3
A10: OTPS066 | B10: SOSYAL SORUMLULUK PROJESİ I | C10: 1 | D10: 2 | E10: 0 | F10: 3
A11: OTPS068 | B11: İLETİŞİM | C11: 2 | D11: 0 | E11: 0 | F11: 3
A12: PRJS102 | B12: PROJE KÜLTÜRÜ | C12: 1 | D12: 0 | E12: 0 | F12: 1
A13: OTPS063 | B13: ARAŞTIRMA YÖNTEM ve TEKNİKLERİ | C13: 2 | D13: 0 | E13: 0 | F13: 3
A14: OTPS061 | B14: İŞLETME YÖNETİMİ II | C14: 2 | D14: 0 | E14: 0 | F14: 3
A15: OTPS065 | B15: TOPLUM BİLİNCİ VE SOSYAL SORUMLULUK | C15: 1 | D15: 2 | E15: 0 | F15: 3
A16: OTPS067 | B16: SOSYAL SORUMLULUK PROJESİ II | C16: 1 | D16: 2 | E16: 0 | F16: 3
A25: Not:İlgili Bölüm tarafından diğer programlara verilen dersler yazılacaktır.
F28: Tarih:

Sheet FR 6 Bağıl Değerlendirme Hariç 
A1: BURSA ULUDAĞ ÜNİVERSİTESİ ANADAL DERS PLAN FORMU-6 BAĞIL DEĞERLENDİRME İLE DEĞERLENDİRELEMEYECEK ÖZELLİKTEKİ DERSLER
A2: ='FR 1 Ders Planları'!A2:M2 -> 2026 - 2027 EĞİTİM-ÖĞRETİM YILI
A3: ='FR 1 Ders Planları'!A3:M3 -> FAKÜLTE/YÜKSEKOKUL/KONSERVATUVAR/MYO: GEMLİK ASIM KOCABIYIK-KARACABEY-KELES-ORHANGAZİ YENİKÖY ASİL ÇELİK-TEKNİK BİLİMLER
A4: ='FR 1 Ders Planları'!A4:M4 -> BÖLÜM/ PROGRAM: BİLGİSAYAR TEKNOLOJİLERİ/BİLGİSAYAR PROGRAMCILIĞI
A5: Kod | B5: Dersin Adı | C5: Dersin Türü | D5: Haftalık Ders Saati | G5: AKTS
C6: Z/S | D6: K | E6: U | F6: L
A7: BLPZ119 | B7: KARİYER PLANLAMA | C7: Z | D7: 1 | E7: 0 | F7: 0 | G7: 1
A8: İME202 | B8: İŞLETMEDE MESLEKİ EĞİTİM | C8: Z | D8: 5 | E8: 25 | F8: 0 | G8: 16
A9: STJ202 | B9: STAJ | C9: Z | D9: 0 | E9: 2 | F9: 0 | G9: 6
A10: PRJS102 | B10: PROJE KÜLTÜRÜ | C10: S | D10: 1 | E10: 0 | F10: 0 | G10: 1
A25: AÇIKLAMA: Bursa Uludağ Ünivesitesi Önlisans ve Lisans Öğretim Yönetmeliği'nin 32.maddesi gereğince birimler tarafından teklif edilen ve Senato Kararı ile kabul edilen Bağıl Değerlendirme Sistemi ile Değerlendirilemeyecek Özellikteki Derslerin Öğrenci İşleri Otomasyon Sistemine de yansıtılması için tabloya yazılması gerekmektedir.
D26: Tarih | E26: :

Sheet KURALLAR
A1: BURSA ULUDAĞ ÜNİVERSİTESİ DERS PLAN FORMU-1
A2: DERS PLANLARI HAZIRLANIRKEN UYULMASI GEREKEN KURALLAR
A4: · Güz yarıyılında tek sayılı kodlar kullanılır, TUD101, TDE2009 vb.
A5: · Bahar yarıyılında çift sayılı kodlar kullanılır. TUD102, TDE2010 vb.
A6: · Kodlar verilirken harflerle rakamlar arasında boşluk bırakılmaz. TDE3001, MAT4003 vb.
A7: · Kodlar verilirken rakamlardan önce kısa çizgi konmaz TUD-101 vb.
A8: · Her derse kod vermek gerekir. TUD101 TÜRK DİLİ I, TUD102 TÜRK DİLİ II /TDE3001 SÖZ DİZİMİ I, TDE3002 SÖZ DİZİMİ II vb.
A9: · Bir derse verilen kod, yalnız bir kez kullanılır.
A10: · Aynı dersi ayrı dönemlerde gösterirken ilk alınana I/sonra alınana II rakamı kullanılır. Bu sayılar için roma rakamı kullanılır. Doğru yazılım şöyle olmalı: TDE3001 SÖZ DİZİMİ I, TDE3002 SÖZ DİZİMİ II
A11: · Adı aynı olan dersin güz döneminde II’si bahar döneminde I’i kullanılamaz.
A12: · Bütün ders adları büyük harfle yazılır ancak ile, ve, göre vb. bağlaçlar küçük harfle yazılır. Ayrıca açıklama içeren ayraç içindeki bilgiler küçük harfle yazılır. AİT101 ATATÜRK İLKELERİ ve İNKILAP TARİHİ I / vb.
A13: · Ders adlarını yazarken kısaltma kullanılmaz, bütün dersler açılımlarıyla yazılır.
... A23: · Yeni Eklenen/Değiştirilen her bir derse ait “Ders Öğretim Planı” eklenecek,
